BEGIN:VCALENDAR
VERSION:2.0
PRODID:-//Tukios.com/
BEGIN:VEVENT
UID:454e3130-ac97-4540-97c1-497c062c1cee@www.cutshallfuneralhome.com
DTSTAMP:20260424T215901Z
DTSTART:20260426T180000Z
DTEND:20260426T200000Z
SUMMARY:Visitation
DESCRIPTION:
URL:https://www.cutshallfuneralhome.com/obituaries/louise-charbauski
LOCATION: 302 North Pearl Street  Iuka MS 38852
GEO:34.8139819;-88.1907071
END:VEVENT
END:VCALENDAR