BEGIN:VCALENDAR
VERSION:2.0
PRODID:-//Tukios.com/
BEGIN:VEVENT
UID:de57944e-f023-4591-9b26-ee092ce1ea63@www.cutshallfuneralhome.com
DTSTAMP:20260424T215803Z
DTSTART:20260426T200000Z
DTEND:20260426T210000Z
SUMMARY:Funeral Service
DESCRIPTION:
URL:https://www.cutshallfuneralhome.com/obituaries/louise-charbauski
LOCATION: 302 North Pearl Street  Iuka MS 38852
GEO:34.8139819;-88.1907071
END:VEVENT
END:VCALENDAR