BEGIN:VCALENDAR
VERSION:2.0
PRODID:-//Tukios.com/
BEGIN:VEVENT
UID:c661de5d-2b5a-4f58-9674-0ef659857533@www.cutshallfuneralhome.com
DTSTAMP:20260421T011044Z
DTSTART:20260425T190000Z
DTEND:20260425T200000Z
SUMMARY:Memorial Service
DESCRIPTION:
URL:https://www.cutshallfuneralhome.com/obituaries/richard-grisham
LOCATION: 302 North Pearl Street  Iuka MS 38852
GEO:34.8139819;-88.1907071
END:VEVENT
END:VCALENDAR