BEGIN:VCALENDAR
VERSION:2.0
PRODID:-//Tukios.com/
BEGIN:VEVENT
UID:983a6e49-6ad7-47f6-bf9a-60a054b4084a@www.cutshallfuneralhome.com
DTSTAMP:20260421T011044Z
DTSTART:20260425T180000Z
DTEND:20260425T190000Z
SUMMARY:Visitation
DESCRIPTION:
URL:https://www.cutshallfuneralhome.com/obituaries/richard-grisham
LOCATION: 302 North Pearl Street  Iuka MS 38852
GEO:34.8139819;-88.1907071
END:VEVENT
END:VCALENDAR