BEGIN:VCALENDAR
VERSION:2.0
PRODID:-//Tukios.com/
BEGIN:VEVENT
UID:469529e1-8fd8-4015-a4fa-c76ea414ab05@www.cutshallfuneralhome.com
DTSTAMP:20260420T061605Z
DTSTART:20260423T220000Z
DTEND:20260424T010000Z
SUMMARY:Visitation
DESCRIPTION:
URL:https://www.cutshallfuneralhome.com/obituaries/shirley-lambert-walters
LOCATION: 302 North Pearl Street  Iuka MS 38852
GEO:34.8139819;-88.1907071
END:VEVENT
END:VCALENDAR