BEGIN:VCALENDAR
VERSION:2.0
PRODID:-//Tukios.com/
BEGIN:VEVENT
UID:64915541-0d09-4b0b-aaf4-9478f0cc5663@www.cutshallfuneralhome.com
DTSTAMP:20260420T061657Z
DTSTART:20260424T170000Z
DTEND:20260424T180000Z
SUMMARY:Funeral Service
DESCRIPTION:
URL:https://www.cutshallfuneralhome.com/obituaries/shirley-lambert-walters
LOCATION: 25 County Road 321  Iuka MS 38852
GEO:34.9044794;-88.2394721
END:VEVENT
END:VCALENDAR